BEGIN:VCALENDAR
VERSION:2.0
PRODID:-//Ville Port - ECPv6.15.18//NONSGML v1.0//EN
CALSCALE:GREGORIAN
METHOD:PUBLISH
X-ORIGINAL-URL:https://www.ville-port.re
X-WR-CALDESC:Évènements pour Ville Port
REFRESH-INTERVAL;VALUE=DURATION:PT1H
X-Robots-Tag:noindex
X-PUBLISHED-TTL:PT1H
BEGIN:VTIMEZONE
TZID:Indian/Reunion
BEGIN:STANDARD
TZOFFSETFROM:+0400
TZOFFSETTO:+0400
TZNAME:+04
DTSTART:20230101T000000
END:STANDARD
END:VTIMEZONE
BEGIN:VEVENT
DTSTART;TZID=Indian/Reunion:20240310T080000
DTEND;TZID=Indian/Reunion:20240310T120000
DTSTAMP:20260423T223452
CREATED:20240304T073027Z
LAST-MODIFIED:20240305T045706Z
UID:368870-1710057600-1710072000@www.ville-port.re
SUMMARY:Journée Internationale des Droits des Femmes
DESCRIPTION:Participez à la Journée sports proposée par la ville du Port et l’OMS ce dimanche 10 mars de 8h à 12h au Complexe Sportif Albius. Evénement gratuit et ouvert à tous. Infos au 0262 42 41 20
URL:https://www.ville-port.re/event/journee-internationale-droits-des-femmes-10-mars-2024/
LOCATION:Complexe Sportif Edmond Albius\, Le Port
CATEGORIES:Sportif
ATTACH;FMTTYPE=image/jpeg:https://www.ville-port.re/wp-content/uploads/2024/03/miniature-journee-internationale-droits-des-femmes-10-mars-2024.jpg
END:VEVENT
END:VCALENDAR