BEGIN:VCALENDAR
VERSION:2.0
PRODID:-//Ville Port - ECPv6.15.18//NONSGML v1.0//EN
CALSCALE:GREGORIAN
METHOD:PUBLISH
X-WR-CALNAME:Ville Port
X-ORIGINAL-URL:https://www.ville-port.re
X-WR-CALDESC:Évènements pour Ville Port
REFRESH-INTERVAL;VALUE=DURATION:PT1H
X-Robots-Tag:noindex
X-PUBLISHED-TTL:PT1H
BEGIN:VTIMEZONE
TZID:Indian/Reunion
BEGIN:STANDARD
TZOFFSETFROM:+0400
TZOFFSETTO:+0400
TZNAME:+04
DTSTART:20230101T000000
END:STANDARD
END:VTIMEZONE
BEGIN:VEVENT
DTSTART;VALUE=DATE:20240212
DTEND;VALUE=DATE:20240229
DTSTAMP:20260424T000407
CREATED:20240209T090008Z
LAST-MODIFIED:20240210T045000Z
UID:368693-1707696000-1709164799@www.ville-port.re
SUMMARY:Ouverture des inscriptions pour les centres de loisirs le 12 février
DESCRIPTION:Ouverture des inscriptions le 12 février \nPour les vacances de mars\, les centres de loisirs\, accueil de mineurs sans hébergement accueilleront un peu plus de 400 enfants dont 226 en élémentaire\, du lundi 4 au jeudi 14 mars 2024.  Les inscriptions se déroulent du 12 au 28 février selon un calendrier établi\, par école/centre de loisirs à consulter dans le tableau ci-dessous. \nLes activités seront menées autour du thème « Les jeux Eau’Lympiques » avec des sorties pédagogiques séances à la piscine\, structures gonflables\, ateliers culturels\, contes et légendes créoles entre autres. L’accueil se fera du lundi au vendredi de 7h30 à 17h30 dans les écoles suivantes : Camille Macarty et Paule Legros (élémentaire) et Henri Wallon et Appolina Delpha (maternelle)\, Ariste Bolon\, Laurent Vergès\, et Françoise Dolto (élémentaire et maternelle). Les centres Georges Thiébaut sont transférés à F.Dolto. \nInscriptions à la Régie monétique\, du lundi au jeudi : 8h15-12h et 13h-16h et le vendredi de 8h15 à 11h30. \nÀ fournir : justificatif d’adresse (moins de 3 mois)\, livret de famille\, carnet de santé de l’enfant et le quotient familial de la CAF.+ d’infos au 02 62 43 25 53/54 ou 02 62 55 55 96 \n\n\n \n \n\n\n\n\nÉcoles\nDates\nHoraires d’inscription\n\n\nCamille Macarty et Henri Wallon\n12 et 13 février 2024\n\nDu lundi au jeudi de 8h15 à 12h00 et de 13h00 à 16h00 \nLe  Vendredi de 8h15 à 11h30. \n\n\n\nLaurent Verges / Maternelle et Primaire\n14 et 15 février 2024\n\n\nAriste Bolon / Maternelle et Primaire\n16 février 2024\n\n\nPaule Legros et Appolina Delpha\n19 et 20 février 2024\n\n\nGeorges Thiebaut / Maternelle et Primaire\n21 et 22 février 2024\n\n\nBenjamin Hoareau / Maternelle et Primaire\n23 février 2024\n\n\nFrançoise Dolto / Maternelle et Primaire\n26 et 27 février 2024\n\n\nDédié aux retardataires selon les places disponibles\n28 février 2024
URL:https://www.ville-port.re/event/ouverture-inscriptions-centres-loisirs-mars-2024/
CATEGORIES:Sportif
ATTACH;FMTTYPE=image/jpeg:https://www.ville-port.re/wp-content/uploads/2023/05/information-1.jpg
END:VEVENT
END:VCALENDAR