BEGIN:VCALENDAR
VERSION:2.0
PRODID:-//Ville Port - ECPv6.15.18//NONSGML v1.0//EN
CALSCALE:GREGORIAN
METHOD:PUBLISH
X-WR-CALNAME:Ville Port
X-ORIGINAL-URL:https://www.ville-port.re
X-WR-CALDESC:Évènements pour Ville Port
REFRESH-INTERVAL;VALUE=DURATION:PT1H
X-Robots-Tag:noindex
X-PUBLISHED-TTL:PT1H
BEGIN:VTIMEZONE
TZID:Indian/Reunion
BEGIN:STANDARD
TZOFFSETFROM:+0400
TZOFFSETTO:+0400
TZNAME:+04
DTSTART:20230101T000000
END:STANDARD
END:VTIMEZONE
BEGIN:VEVENT
DTSTART;TZID=Indian/Reunion:20240204T100000
DTEND;TZID=Indian/Reunion:20240204T120000
DTSTAMP:20260424T013919
CREATED:20240129T051018Z
LAST-MODIFIED:20240129T051018Z
UID:368594-1707040800-1707048000@www.ville-port.re
SUMMARY:Jardin aquatique pour les enfants
DESCRIPTION:Nager\, jouer\, s’amuser ! La ville du Port organise des ateliers ludiques et éducatifs afin de permettre aux enfants de découvrir les plaisirs de l’eau. Rendez-vous pour le jardin aquatique et ses activités pour les enfants de 2 à 5 ans\, le dimanche 4 février 2024 de 10h à 12h à la piscine municipale\, Jean-Lou Javoy. Toboggan\, cage à écureuil\, pont flottant et jeux d’eau seront proposés aux marmailles. Infos au 0262 42 00 30.
URL:https://www.ville-port.re/event/jardin-aquatique-enfants-4-fevrier-2024/
CATEGORIES:Sportif
ATTACH;FMTTYPE=image/jpeg:https://www.ville-port.re/wp-content/uploads/2024/01/jardin-aquatique-enfants-4-fevrier-2024.jpg
END:VEVENT
END:VCALENDAR