BEGIN:VCALENDAR
VERSION:2.0
PRODID:-//Ville Port - ECPv6.15.18//NONSGML v1.0//EN
CALSCALE:GREGORIAN
METHOD:PUBLISH
X-ORIGINAL-URL:https://www.ville-port.re
X-WR-CALDESC:Évènements pour Ville Port
REFRESH-INTERVAL;VALUE=DURATION:PT1H
X-Robots-Tag:noindex
X-PUBLISHED-TTL:PT1H
BEGIN:VTIMEZONE
TZID:Indian/Reunion
BEGIN:STANDARD
TZOFFSETFROM:+0400
TZOFFSETTO:+0400
TZNAME:+04
DTSTART:20220101T000000
END:STANDARD
END:VTIMEZONE
BEGIN:VEVENT
DTSTART;TZID=Indian/Reunion:20230204T140000
DTEND;TZID=Indian/Reunion:20230204T163000
DTSTAMP:20260424T231028
CREATED:20230203T064552Z
LAST-MODIFIED:20230203T064559Z
UID:364294-1675519200-1675528200@www.ville-port.re
SUMMARY:Après-midi récréatif à la piscine municipale
DESCRIPTION:Vien zoué dan lo !\n\n Samedi 4 février 2023 de 14h à 16h30 à la piscine municipale Jean-Lou Javoy. À l’initiative de la ville du Port\, cet évènement est réservé aux 6-12 ans.\n\nAu programme : parcours aquatiques\, toboggan\, cage à écureuil\, pont flottant … Entrée : enfant 0\,50€\, bonnet et maillot de bain obligatoires.
URL:https://www.ville-port.re/event/apres-midi-recreatif-a-la-piscine-municipale/
LOCATION:Piscine olympique municipale Jean-Lou Javoy\, Rue Andre Suarez\, Le Port\, 97420
CATEGORIES:Sportif
ATTACH;FMTTYPE=image/jpeg:https://www.ville-port.re/wp-content/uploads/2023/02/apres-midi-recreatif-4-fevrier.jpg
END:VEVENT
END:VCALENDAR