BEGIN:VCALENDAR
VERSION:2.0
PRODID:-//Ville Port - ECPv6.15.18//NONSGML v1.0//EN
CALSCALE:GREGORIAN
METHOD:PUBLISH
X-ORIGINAL-URL:https://www.ville-port.re
X-WR-CALDESC:Évènements pour Ville Port
REFRESH-INTERVAL;VALUE=DURATION:PT1H
X-Robots-Tag:noindex
X-PUBLISHED-TTL:PT1H
BEGIN:VTIMEZONE
TZID:Indian/Reunion
BEGIN:STANDARD
TZOFFSETFROM:+0400
TZOFFSETTO:+0400
TZNAME:+04
DTSTART:20200101T000000
END:STANDARD
END:VTIMEZONE
BEGIN:VEVENT
DTSTART;VALUE=DATE:20211228
DTEND;VALUE=DATE:20211231
DTSTAMP:20260425T194131
CREATED:20211202T101708Z
LAST-MODIFIED:20211202T101708Z
UID:358325-1640649600-1640908799@www.ville-port.re
SUMMARY:Meeting International (La Jeanne Ouest Natation)
DESCRIPTION:Compétition
URL:https://www.ville-port.re/event/meeting-international-la-jeanne-ouest-natation/
LOCATION:Piscine olympique municipale Jean-Lou Javoy\, Rue Andre Suarez\, Le Port\, 97420
CATEGORIES:Sportif
ATTACH;FMTTYPE=image/jpeg:https://www.ville-port.re/wp-content/uploads/2021/12/Piscine.jpg
END:VEVENT
END:VCALENDAR