BEGIN:VCALENDAR
VERSION:2.0
PRODID:-//Ville Port - ECPv6.15.18//NONSGML v1.0//EN
CALSCALE:GREGORIAN
METHOD:PUBLISH
X-WR-CALNAME:Ville Port
X-ORIGINAL-URL:https://www.ville-port.re
X-WR-CALDESC:Évènements pour Ville Port
REFRESH-INTERVAL;VALUE=DURATION:PT1H
X-Robots-Tag:noindex
X-PUBLISHED-TTL:PT1H
BEGIN:VTIMEZONE
TZID:Indian/Reunion
BEGIN:STANDARD
TZOFFSETFROM:+0400
TZOFFSETTO:+0400
TZNAME:+04
DTSTART:20200101T000000
END:STANDARD
END:VTIMEZONE
BEGIN:VEVENT
DTSTART;TZID=Indian/Reunion:20211217T180000
DTEND;TZID=Indian/Reunion:20211217T233000
DTSTAMP:20260425T211616
CREATED:20211202T063631Z
LAST-MODIFIED:20211202T063631Z
UID:358297-1639764000-1639783800@www.ville-port.re
SUMMARY:Remise des récompenses Interquartiers de football
DESCRIPTION:
URL:https://www.ville-port.re/event/remise-des-recompenses-interquartiers-de-football/
LOCATION:La Friche\, 1 rue de la poste\, Le Port\, 97420\, France
CATEGORIES:Sportif
ATTACH;FMTTYPE=image/jpeg:https://www.ville-port.re/wp-content/uploads/2021/12/251445751_2410215389109698_980332797123670693_n.jpg
END:VEVENT
END:VCALENDAR