BEGIN:VCALENDAR
VERSION:2.0
PRODID:-//Ville Port - ECPv6.15.18//NONSGML v1.0//EN
CALSCALE:GREGORIAN
METHOD:PUBLISH
X-ORIGINAL-URL:https://www.ville-port.re
X-WR-CALDESC:Évènements pour Ville Port
REFRESH-INTERVAL;VALUE=DURATION:PT1H
X-Robots-Tag:noindex
X-PUBLISHED-TTL:PT1H
BEGIN:VTIMEZONE
TZID:Indian/Reunion
BEGIN:STANDARD
TZOFFSETFROM:+0400
TZOFFSETTO:+0400
TZNAME:+04
DTSTART:20200101T000000
END:STANDARD
END:VTIMEZONE
BEGIN:VEVENT
DTSTART;TZID=Indian/Reunion:20211215T160000
DTEND;TZID=Indian/Reunion:20211215T183000
DTSTAMP:20260425T212101
CREATED:20211201T131458Z
LAST-MODIFIED:20211202T064826Z
UID:358267-1639584000-1639593000@www.ville-port.re
SUMMARY:Jeux de Noël
DESCRIPTION:« 50 ans de l’OMS » : Activités multisports visant à réunir des jeunes issus des différents quartiers de la Ville avec qui les éducateurs de l’Office interviennent tout au long de l’année.
URL:https://www.ville-port.re/event/jeux-de-noel/
LOCATION:Stade Lambrakis\, Avenue Raymond Mondon\, Le Port\, 97420\, France
CATEGORIES:Sportif
ATTACH;FMTTYPE=image/jpeg:https://www.ville-port.re/wp-content/uploads/2021/12/251445751_2410215389109698_980332797123670693_n.jpg
END:VEVENT
END:VCALENDAR