BEGIN:VCALENDAR
VERSION:2.0
PRODID:-//Ville Port - ECPv6.15.18//NONSGML v1.0//EN
CALSCALE:GREGORIAN
METHOD:PUBLISH
X-WR-CALNAME:Ville Port
X-ORIGINAL-URL:https://www.ville-port.re
X-WR-CALDESC:Évènements pour Ville Port
REFRESH-INTERVAL;VALUE=DURATION:PT1H
X-Robots-Tag:noindex
X-PUBLISHED-TTL:PT1H
BEGIN:VTIMEZONE
TZID:Indian/Reunion
BEGIN:STANDARD
TZOFFSETFROM:+0400
TZOFFSETTO:+0400
TZNAME:+04
DTSTART:20230101T000000
END:STANDARD
END:VTIMEZONE
BEGIN:VEVENT
DTSTART;VALUE=DATE:20240808
DTEND;VALUE=DATE:20240809
DTSTAMP:20260421T135929
CREATED:20240806T133540Z
LAST-MODIFIED:20240808T063740Z
UID:370071-1723075200-1723161599@www.ville-port.re
SUMMARY:Thé dansant des seniors\, jeudi 8 août
DESCRIPTION:Ne manquez pas le thé dansant du mois d’août à la salle Paulette Adois Lacpatia! La Maison des Seniors organise sous l’égide du CCAS du Port et en partenariat avec plusieurs associations de la ville\, le traditionnel thé dansant du mois.\n\n\nJeudi 8 août 2024 de 13h à 17h à la salle Paulette Adois Lacpatia.\n\n\nL’entrée est gratuite. Une navette est à votre disposition.\, départ de la Rivière des Galets à 13h. Pour toute autre précision\, merci de contacter la Maison des Seniors 0262 42 46 83.
URL:https://www.ville-port.re/event/the-dansant-des-seniors-jeudi-8-aout/
CATEGORIES:Sportif
ATTACH;FMTTYPE=image/jpeg:https://www.ville-port.re/wp-content/uploads/2024/08/the-dansant-des-seniors-jeudi-8-aout.jpg
END:VEVENT
BEGIN:VEVENT
DTSTART;VALUE=DATE:20240808
DTEND;VALUE=DATE:20240810
DTSTAMP:20260421T135929
CREATED:20240624T045827Z
LAST-MODIFIED:20240624T045857Z
UID:369678-1723075200-1723247999@www.ville-port.re
SUMMARY:Vakans nautik et olympik
DESCRIPTION:Vous êtes une association de quartiers de la ville ou un groupe d’habitants\, la Base Nautique des Mascareignes vous propose de découvrir des activités nautiques.\n\n\n Accueil pendant les vacances du 8 juillet au 9 août 2024 pour pratiquer kayak et voile.\n\n\n Constituez voter groupe et contactez la BNM  02 62 55 18 35\n basenautiquemascareignes@orange.fr.
URL:https://www.ville-port.re/event/base-nautique-mascareignes-vakans-nautik-olympik-2024/
CATEGORIES:Sportif
END:VEVENT
END:VCALENDAR