BEGIN:VCALENDAR
VERSION:2.0
PRODID:-//Ville Port - ECPv6.15.18//NONSGML v1.0//EN
CALSCALE:GREGORIAN
METHOD:PUBLISH
X-ORIGINAL-URL:https://www.ville-port.re
X-WR-CALDESC:Évènements pour Ville Port
REFRESH-INTERVAL;VALUE=DURATION:PT1H
X-Robots-Tag:noindex
X-PUBLISHED-TTL:PT1H
BEGIN:VTIMEZONE
TZID:Indian/Reunion
BEGIN:STANDARD
TZOFFSETFROM:+0400
TZOFFSETTO:+0400
TZNAME:+04
DTSTART:20230101T000000
END:STANDARD
END:VTIMEZONE
BEGIN:VEVENT
DTSTART;TZID=Indian/Reunion:20240506T080000
DTEND;TZID=Indian/Reunion:20240517T110000
DTSTAMP:20260423T160659
CREATED:20240423T075859Z
LAST-MODIFIED:20240423T075927Z
UID:369259-1714982400-1715943600@www.ville-port.re
SUMMARY:Vakans dann Port : stage de natation
DESCRIPTION:La ville du Port organise des stages d’apprentissage de la natation pour enfants et adulte. Ces stages auront lieu à la piscine municipale Jean-Lou Javoy pendant les vacances de mai\, du 6 au 17 ( sauf jours fériés) entre 8h et 11h selon les groupes.\n\n\n\n Infos et inscriptions au 0262 42 00 30.
URL:https://www.ville-port.re/event/vakans-dann-port-stage-natation-6-17-mai-2024/
LOCATION:Piscine olympique municipale Jean-Lou Javoy\, Rue Andre Suarez\, Le Port\, 97420
CATEGORIES:Sportif
ATTACH;FMTTYPE=image/jpeg:https://www.ville-port.re/wp-content/uploads/2024/04/miniature-vakans-dann-port-stage-natation-6-17-mai-2024.jpg
END:VEVENT
BEGIN:VEVENT
DTSTART;TZID=Indian/Reunion:20240506T080000
DTEND;TZID=Indian/Reunion:20240517T170000
DTSTAMP:20260423T160659
CREATED:20240429T055012Z
LAST-MODIFIED:20240429T055035Z
UID:369300-1714982400-1715965200@www.ville-port.re
SUMMARY:Vakans dann Port : inscriptions en cours pour « Mes vacances à vélo »
DESCRIPTION:Vous êtes à la recherche d’activités pour vos marmailles pendant les vacances de mai ? L’OMS et la ville du Port vous proposent le Village S’Port Vacances\, sur le thème du vélo\, du 06 au 17 mai 2024. Au programme\, initiation\, balade\, activités sportives et culturelles et des sorties. Ouverts aux enfants de 7 à 17 ans.\n\nLes inscriptions\, obligatoires\, sont en cours à l’OMS. Pour plus d’infos : 0262 42 41 20.
URL:https://www.ville-port.re/event/vakans-dann-port-mai-2024-inscriptions-vacances-a-velo/
CATEGORIES:Sportif
ATTACH;FMTTYPE=image/jpeg:https://www.ville-port.re/wp-content/uploads/2024/04/miniature-vakans-dann-port-mai-2024-inscriptions-vacances-a-velo.jpg
END:VEVENT
BEGIN:VEVENT
DTSTART;TZID=Indian/Reunion:20240523T080000
DTEND;TZID=Indian/Reunion:20240523T170000
DTSTAMP:20260423T160659
CREATED:20240523T051041Z
LAST-MODIFIED:20240523T051108Z
UID:369438-1716451200-1716483600@www.ville-port.re
SUMMARY:Retour du Trail Urbain de l'Écocité
DESCRIPTION:L’association Rando Rivière des Galets\, en partenariat avec le GIP Écocité et le Territoire de l’Ouest vous invitent à vivre la 2ème édition du trail Urbain de l’Écocité tout en vous projetant dans la ville de demain.\n\n\nRendez-vous le 15 juin 2024 dès 7h\, place festival à La Possession. Trois courses (25 km – Course individuelle et relais à 5 Relais et randonnée 5 km) sont au programme pour les coureurs chevronnés\, les amateurs et un public familial.\n\n\n Plus d’infos  https://bit.ly/43VCQR7\n Pour vous inscrire  https://bit.ly/3xwbDrQ
URL:https://www.ville-port.re/event/retour-trail-urbain-ecocite/
CATEGORIES:Sportif
ATTACH;FMTTYPE=image/jpeg:https://www.ville-port.re/wp-content/uploads/2024/05/miniature-retour-trail-urbain-ecocite.jpg
END:VEVENT
BEGIN:VEVENT
DTSTART;TZID=Indian/Reunion:20240530T080000
DTEND;TZID=Indian/Reunion:20240606T170000
DTSTAMP:20260423T160659
CREATED:20240527T050615Z
LAST-MODIFIED:20240527T062609Z
UID:369470-1717056000-1717693200@www.ville-port.re
SUMMARY:Venez découvrir le dispositif passerelle
DESCRIPTION:Du 30 mai au 4 juin 2024\, des journées portes ouvertes sont organisées dans quatre écoles de la Ville afin de vous permettre de découvrir les classes passerelles. Ce dispositif est destiné aux enfants âgés entre 2 et 3 ans afin de permettre une adaptation progressive à la vie scolaire. Il facilite également la séparation progressive de l’enfant de son milieu familial pour améliorer les conditions d’entrée à l’école. Pour tout savoir\, rendez-vous dans les écoles selon le calendrier ci-dessous  Les premières matinées découverte avec présentation du dispositif\, et visite des classes par les enfants et leurs parents auront lieu le jeudi 30 mai\, écoles André Hoarau et Françoise Dolto.
URL:https://www.ville-port.re/event/dispositif-passerelle-mai-juin-2024/
CATEGORIES:Culture,Économie,Sportif
ATTACH;FMTTYPE=image/jpeg:https://www.ville-port.re/wp-content/uploads/2024/05/test.jpg
END:VEVENT
END:VCALENDAR