BEGIN:VCALENDAR
VERSION:2.0
PRODID:-//Ville Port - ECPv6.15.18//NONSGML v1.0//EN
CALSCALE:GREGORIAN
METHOD:PUBLISH
X-ORIGINAL-URL:https://www.ville-port.re
X-WR-CALDESC:Évènements pour Ville Port
REFRESH-INTERVAL;VALUE=DURATION:PT1H
X-Robots-Tag:noindex
X-PUBLISHED-TTL:PT1H
BEGIN:VTIMEZONE
TZID:Indian/Reunion
BEGIN:STANDARD
TZOFFSETFROM:+0400
TZOFFSETTO:+0400
TZNAME:+04
DTSTART:20230101T000000
END:STANDARD
END:VTIMEZONE
BEGIN:VEVENT
DTSTART;TZID=Indian/Reunion:20240413T080000
DTEND;TZID=Indian/Reunion:20240413T160000
DTSTAMP:20260423T172825
CREATED:20240408T050435Z
LAST-MODIFIED:20240408T050502Z
UID:369123-1712995200-1713024000@www.ville-port.re
SUMMARY:Sensibilisation à l’Autisme
DESCRIPTION:Cette année encore la Ville et le CCAS du Port via le Pôle Handicap se mobilisent auprès du CRA Réunion – Centre de Ressources pour l’Autisme et de l’Association Blue Family – Relais IF 974 – ASF 974 à l’occasion des journées de sensibilisation à l’Autisme.\n\nObjectif : sensibiliser et informer le grand public sur les réalités de ce trouble de développement qui touche 1% de la population.\n\nSamedi 13 avril 2024\, de 8h à 16h un village sera installé et une marche organisée au Complexe Sportif Municipal. Dans un cadre adapté\, parents\, enfants et le grand public pourront découvrir entre autres des stands de sensibilisation et de bien-être et des activités sportives. Un concert est également prévu.\n\n\n\nPlusieurs actions auront ainsi lieu au Port jusqu’au 23 avril pour soutenir les aidants\, renforcer la solidarité de la Ville envers la cause notamment en illuminant de l’Hôtel de ville en bleu et favoriser l’inclusion des personnes autistes sur notre territoire.\n\n\nPour tout savoir sur le programme : Association Blue Family – Relais IF 974 – ASF 974
URL:https://www.ville-port.re/event/sensibilisation-autisme-13-avril-2024/
LOCATION:Complexe sportif municipal\, 14 Rue des Sans Soucis\, Le Port\, 97420\, Réunion
CATEGORIES:Culture,Sportif
ATTACH;FMTTYPE=image/jpeg:https://www.ville-port.re/wp-content/uploads/2024/04/miniature-sensibilisation-autisme-13-avril-2024.jpg
END:VEVENT
END:VCALENDAR