BEGIN:VCALENDAR
VERSION:2.0
PRODID:-//Ville Port - ECPv6.15.18//NONSGML v1.0//EN
CALSCALE:GREGORIAN
METHOD:PUBLISH
X-ORIGINAL-URL:https://www.ville-port.re
X-WR-CALDESC:Évènements pour Ville Port
REFRESH-INTERVAL;VALUE=DURATION:PT1H
X-Robots-Tag:noindex
X-PUBLISHED-TTL:PT1H
BEGIN:VTIMEZONE
TZID:Indian/Reunion
BEGIN:STANDARD
TZOFFSETFROM:+0400
TZOFFSETTO:+0400
TZNAME:+04
DTSTART:20230101T000000
END:STANDARD
END:VTIMEZONE
BEGIN:VEVENT
DTSTART;VALUE=DATE:20240304
DTEND;VALUE=DATE:20240309
DTSTAMP:20260423T190816
CREATED:20240219T051254Z
LAST-MODIFIED:20240219T051321Z
UID:368768-1709510400-1709942399@www.ville-port.re
SUMMARY:Stage vacances au Village Titan
DESCRIPTION:Dans le cadre des prochaines vacances\, le Village Titan Centre culturel et la ville du Port proposent des stages du 4 au 8 mars 2024 pour des enfants\, à partir de 6 ans.\n\n\n\nLes inscriptions sont ouvertes pour les activités : arts plastiques\, hip-hop et danse indienne. Tarif : 50€/ atelier.\n\n\n\nInformations et inscriptions  0693 70 20 79/ 0262 43 47 85
URL:https://www.ville-port.re/event/stage-vacances-village-titan-mars-2024/
LOCATION:Village Titan\, 13 Rue de Port-Louis\, Le Port\, 97420\, France
CATEGORIES:Culture,Sportif
ATTACH;FMTTYPE=image/jpeg:https://www.ville-port.re/wp-content/uploads/2024/02/miniature-stage-vacances-village-titan-mars-2024.jpg
END:VEVENT
BEGIN:VEVENT
DTSTART;TZID=Indian/Reunion:20240307T080000
DTEND;TZID=Indian/Reunion:20240307T160000
DTSTAMP:20260423T190816
CREATED:20240301T045145Z
LAST-MODIFIED:20240301T045201Z
UID:368847-1709798400-1709827200@www.ville-port.re
SUMMARY:La Karavane du Bel Âge de retour le 7 mars
DESCRIPTION:La Karavane du Bel Âge\, « en forme avec les seniors » reprend la route cette année pour proposer aux seniors des animations et des activités autour du bien-être\, de la santé et de la nutrition !\n\n\n\nLa ville du Port via son CCAS s’est engagée à multiplier les actions en matière d’accompagnement et du bien vieillir de ses seniors. C’est ainsi qu’elle se mobilise aux côtés de différents partenaires : l’UDCCAS (Union Départementale des Centres Communaux d’Action Sociale)\, l’Agence Régionale de Santé et le Département de La Réunion pour accueillir la Karavane du Bel Âge\, un outil de prévention et d’action notamment pour lutter contre l’isolement des personnes âgées.\n\n\n\nKaravane du Bel âge\, jeudi 7 mars de 8h à 16h\, au CSM\, Complexe Sportif Municipal (Cotur) pour des ateliers prévention\, bien-être\, santé et accès aux droits. Accès libre et gratuit.
URL:https://www.ville-port.re/event/karavane-bel-age-retour-7-mars-2024/
LOCATION:Complexe sportif municipal\, 14 Rue des Sans Soucis\, Le Port\, 97420\, Réunion
CATEGORIES:Sportif
ATTACH;FMTTYPE=image/jpeg:https://www.ville-port.re/wp-content/uploads/2024/03/miniature-karavane-bel-age-retour-7-mars-2024karavane-bel-age-retour-7-mars-2024.jpg
END:VEVENT
BEGIN:VEVENT
DTSTART;TZID=Indian/Reunion:20240309T170000
DTEND;TZID=Indian/Reunion:20240309T230000
DTSTAMP:20260423T190816
CREATED:20240305T050125Z
LAST-MODIFIED:20240305T050146Z
UID:368875-1710003600-1710025200@www.ville-port.re
SUMMARY:Retour du Best of Muay Thai le 9 Mars 2024 au Port
DESCRIPTION:Place ce samedi 9 mars 2024 à la BOMT4 au Complexe Sportif Municipal de 17h à 23h. Associée à la ville du Port\, la team Expédito ‘le Dragon’\, 18 ans d’existence cette année\, vous propose une soirée de gala.\n\n\n \nAu programme plusieurs combats avec notamment chez les féminines avec le retour de Marine Andoche\, les Nassibou\, Niad et Amel\, frère et sœur seront aussi sur le ring.
URL:https://www.ville-port.re/event/best-of-muay-thai-9-mars-2024-au-port/
CATEGORIES:Sportif
ATTACH;FMTTYPE=image/jpeg:https://www.ville-port.re/wp-content/uploads/2024/03/miniature-best-of-muay-thai-9-mars-2024-au-port.jpg
END:VEVENT
BEGIN:VEVENT
DTSTART;TZID=Indian/Reunion:20240310T080000
DTEND;TZID=Indian/Reunion:20240310T120000
DTSTAMP:20260423T190816
CREATED:20240304T073027Z
LAST-MODIFIED:20240305T045706Z
UID:368870-1710057600-1710072000@www.ville-port.re
SUMMARY:Journée Internationale des Droits des Femmes
DESCRIPTION:Participez à la Journée sports proposée par la ville du Port et l’OMS ce dimanche 10 mars de 8h à 12h au Complexe Sportif Albius. Evénement gratuit et ouvert à tous. Infos au 0262 42 41 20
URL:https://www.ville-port.re/event/journee-internationale-droits-des-femmes-10-mars-2024/
LOCATION:Complexe Sportif Edmond Albius\, Le Port
CATEGORIES:Sportif
ATTACH;FMTTYPE=image/jpeg:https://www.ville-port.re/wp-content/uploads/2024/03/miniature-journee-internationale-droits-des-femmes-10-mars-2024.jpg
END:VEVENT
BEGIN:VEVENT
DTSTART;TZID=Indian/Reunion:20240313T090000
DTEND;TZID=Indian/Reunion:20240313T150000
DTSTAMP:20260423T190816
CREATED:20240311T043006Z
LAST-MODIFIED:20240311T045833Z
UID:368954-1710320400-1710342000@www.ville-port.re
SUMMARY:Zacolympik – journée sportive le 13 mars
DESCRIPTION:En cette année olympique\, voici une invitation à découvrir des disciplines olympiques ! La Zacolympic\, organisée par le centre social et culturel Coeur Saignant avec la ville du Port aura lieu le mercredi 13 mars 2024\, dans le quartier de la Zac 2 [Parking et terrain Cœur Saignant]. Au programme : initiation et découverte des disciplines de 9h à 15h.
URL:https://www.ville-port.re/event/zacolympik-journee-sportive-13-mars-2024/
CATEGORIES:Culture,Sportif
ATTACH;FMTTYPE=image/jpeg:https://www.ville-port.re/wp-content/uploads/2024/03/miniature-zacolympik-journee-sportive-13-mars-2024.jpg
END:VEVENT
BEGIN:VEVENT
DTSTART;TZID=Indian/Reunion:20240315T180000
DTEND;TZID=Indian/Reunion:20240315T230000
DTSTAMP:20260423T190816
CREATED:20240314T075052Z
LAST-MODIFIED:20240314T075116Z
UID:368998-1710525600-1710543600@www.ville-port.re
SUMMARY:« Allez les mauves »\, honneur à la Jeanne
DESCRIPTION:La Friche et l’artiste plasticien Clément Striano vous proposent l’exposition « Allez les Mauves !». Cette exposition va au-delà de la simple célébration des succès sur le terrain\, explorant le lien particulier qui unit l’AS Jeanne d’Arc à la communauté Portoise. Elle revient sur l’histoire\, la ténacité et la volonté qui ont marqué l’AS Jeanne d’Arc.\n\n\n\n–  Vendredi 15 mars 2024\, vernissage de 18h à 23h\n– Kop Portois à 18h30 et The Beat Club à 19h\n\n\n– La Friche\, 3 rue Jean Bertho\, Le Port\n\n\n\nEntrée libre et ouvert à tous.
URL:https://www.ville-port.re/event/allez-mauves-honneur-jeanne-darc/
LOCATION:La Friche\, 1 rue de la poste\, Le Port\, 97420\, France
CATEGORIES:Culture,Sportif
ATTACH;FMTTYPE=image/jpeg:https://www.ville-port.re/wp-content/uploads/2024/03/miniature-allez-mauves-honneur-jeanne-darc.jpg
END:VEVENT
BEGIN:VEVENT
DTSTART;TZID=Indian/Reunion:20240324T100000
DTEND;TZID=Indian/Reunion:20240324T120000
DTSTAMP:20260423T190816
CREATED:20240320T043945Z
LAST-MODIFIED:20240320T044009Z
UID:369042-1711274400-1711281600@www.ville-port.re
SUMMARY:Le Jardin aquatique revient le 24 mars
DESCRIPTION: La ville du Port organise des ateliers ludiques et éducatifs afin de permettre aux enfants de découvrir les plaisirs de l’eau. Nager\, jouer\, s’amuser ! Le jardin aquatique\, c’est toute une série d’activités pour les enfants de 2 à 5 ans.\n\n\n\nDimanche 24 mars 2024 de 10h à 12h à la piscine municipale\, Jean-Lou Javoy.\nInfos au 0262 42 00 30.
URL:https://www.ville-port.re/event/jardin-aquatique-revient-24-mars-2024/
LOCATION:Piscine olympique municipale Jean-Lou Javoy\, Rue Andre Suarez\, Le Port\, 97420
CATEGORIES:Sportif
ATTACH;FMTTYPE=image/jpeg:https://www.ville-port.re/wp-content/uploads/2024/03/miniature-jardin-aquatique-revient-24-mars-2024.jpg
END:VEVENT
END:VCALENDAR