BEGIN:VCALENDAR
VERSION:2.0
PRODID:-//Ville Port - ECPv6.15.18//NONSGML v1.0//EN
CALSCALE:GREGORIAN
METHOD:PUBLISH
X-ORIGINAL-URL:https://www.ville-port.re
X-WR-CALDESC:Évènements pour Ville Port
REFRESH-INTERVAL;VALUE=DURATION:PT1H
X-Robots-Tag:noindex
X-PUBLISHED-TTL:PT1H
BEGIN:VTIMEZONE
TZID:Indian/Reunion
BEGIN:STANDARD
TZOFFSETFROM:+0400
TZOFFSETTO:+0400
TZNAME:+04
DTSTART:20220101T000000
END:STANDARD
END:VTIMEZONE
BEGIN:VEVENT
DTSTART;TZID=Indian/Reunion:20231203T100000
DTEND;TZID=Indian/Reunion:20231203T120000
DTSTAMP:20260424T013922
CREATED:20231128T061406Z
LAST-MODIFIED:20231128T061432Z
UID:368025-1701597600-1701604800@www.ville-port.re
SUMMARY:Jardin aquatique pour les enfants
DESCRIPTION:Nager\, jouer\, s’amuser ! Venez profiter de toute une série d’activités pour les enfants de 2 à 5 ans\, le dimanche 3 décembre 2023 de 10h à 12h à la piscine municipale. La ville du Port propose un jardin aquatique pour les 2-5 ans à la piscine Jean-Lou Javoy avec toboggan\, cage à écureuil\, pont flottant et jeux d’eau entre autres.\n\n 
URL:https://www.ville-port.re/event/jardin-aquatique-enfants-3-decembre/
LOCATION:Piscine olympique municipale Jean-Lou Javoy\, Rue Andre Suarez\, Le Port\, 97420
CATEGORIES:Sportif
END:VEVENT
BEGIN:VEVENT
DTSTART;TZID=Indian/Reunion:20231208T170000
DTEND;TZID=Indian/Reunion:20231208T230000
DTSTAMP:20260424T013922
CREATED:20231207T052212Z
LAST-MODIFIED:20231207T052223Z
UID:368171-1702054800-1702076400@www.ville-port.re
SUMMARY:L’Urban S’port revient ce vendredi
DESCRIPTION:Ne manquez pas l’évènement sportif de cette semaine. L’Urban S’port est de retour ! Dans le cadre de “Le Port en fête“ \, ce rendez-vous proposé par la Ville du Port et l’OMS est consacré aux sports urbains et aux activités sportives et de loisirs pour petits et grands.\n\n\n\n Vendredi 08 décembre 2023 de 17h à 23h\, Place des Cheminots\n\n\n\n Boxe\, basketball\, hockey sur gazon\, Zumba\, escrime\, hiphop…\n\n\n\nÉvénement gratuit et ouvert à tous !
URL:https://www.ville-port.re/event/urban-sport-revient-vendredi-8-decembre/
CATEGORIES:Sportif
ATTACH;FMTTYPE=image/jpeg:https://www.ville-port.re/wp-content/uploads/2023/12/miniature-urban-sport-revient-vendredi-8-decembre.jpg
END:VEVENT
BEGIN:VEVENT
DTSTART;TZID=Indian/Reunion:20231217T103000
DTEND;TZID=Indian/Reunion:20231217T170000
DTSTAMP:20260424T013922
CREATED:20231213T052515Z
LAST-MODIFIED:20231213T052515Z
UID:368250-1702809000-1702832400@www.ville-port.re
SUMMARY:Retrouvez le père Noël à la piscine ce dimanche
DESCRIPTION:Ne manquez pas le rendez-vous avec le père Noël à la piscine municipale Jean-Lou Javoy\, ce dimanche 17 décembre 2023 à 10h30.\n\n\n La ville du Port vous propose une belle journée d’animation. Venez profiter des jeux aquatiques\, encadrés par les MNS de la piscine municipale.\n\n\n\nEntrée aux tarifs habituels de la piscine : 1€ adulte et 0\,50€ enfant. Infos au 0262 42 00 30.
URL:https://www.ville-port.re/event/pere-noel-piscine-jean-lou-javoy-13-decembre-2023/
CATEGORIES:Sportif
ATTACH;FMTTYPE=image/jpeg:https://www.ville-port.re/wp-content/uploads/2023/12/miniature-pere-noel-piscine-jean-lou-javoy-13-decembre-2023.jpg
END:VEVENT
END:VCALENDAR