BEGIN:VCALENDAR
VERSION:2.0
PRODID:-//Ville Port - ECPv6.15.18//NONSGML v1.0//EN
CALSCALE:GREGORIAN
METHOD:PUBLISH
X-WR-CALNAME:Ville Port
X-ORIGINAL-URL:https://www.ville-port.re
X-WR-CALDESC:Évènements pour Ville Port
REFRESH-INTERVAL;VALUE=DURATION:PT1H
X-Robots-Tag:noindex
X-PUBLISHED-TTL:PT1H
BEGIN:VTIMEZONE
TZID:Indian/Reunion
BEGIN:STANDARD
TZOFFSETFROM:+0400
TZOFFSETTO:+0400
TZNAME:+04
DTSTART:20220101T000000
END:STANDARD
END:VTIMEZONE
BEGIN:VEVENT
DTSTART;VALUE=DATE:20230827
DTEND;VALUE=DATE:20230828
DTSTAMP:20260424T083255
CREATED:20230810T060250Z
LAST-MODIFIED:20230810T060314Z
UID:366882-1693094400-1693180799@www.ville-port.re
SUMMARY:Inscriptions en cours pour la rando vélo de l'Ouest
DESCRIPTION:La rando vélo intercommunale de l’Ouest aura lieu le dimanche 27 août. L’inscription\, gratuite et obligatoire est ouverte jusqu’au 25 août ( 12h). Infos et inscriptions  https://bit.ly/3Qx1Au6.\n\n\nAu programme 3 circuits :\n Les familiaux :\n– Départ 1: Possession – Saint-paul (29\,2 km)\n– Départ 2 : Saint-Leu (Parc du 20 décembre) – camping de l’Hermitage (16km)\n\n\n Le confirmé :\nSaint-Leu (Parc du 20 décembre- l’Étang Salé (littoral)- camping de l’Hermitage (44\,1km).
URL:https://www.ville-port.re/event/inscriptions-en-cours-pour-la-rando-velo-de-louest/
CATEGORIES:Sportif
ATTACH;FMTTYPE=image/jpeg:https://www.ville-port.re/wp-content/uploads/2023/08/366685954_686160590222662_7910254383662236015_n.jpg
END:VEVENT
END:VCALENDAR