BEGIN:VCALENDAR
VERSION:2.0
PRODID:-//Ville Port - ECPv6.15.18//NONSGML v1.0//EN
CALSCALE:GREGORIAN
METHOD:PUBLISH
X-WR-CALNAME:Ville Port
X-ORIGINAL-URL:https://www.ville-port.re
X-WR-CALDESC:Évènements pour Ville Port
REFRESH-INTERVAL;VALUE=DURATION:PT1H
X-Robots-Tag:noindex
X-PUBLISHED-TTL:PT1H
BEGIN:VTIMEZONE
TZID:Indian/Reunion
BEGIN:STANDARD
TZOFFSETFROM:+0400
TZOFFSETTO:+0400
TZNAME:+04
DTSTART:20220101T000000
END:STANDARD
END:VTIMEZONE
BEGIN:VEVENT
DTSTART;TZID=Indian/Reunion:20230719T170000
DTEND;TZID=Indian/Reunion:20230719T233000
DTSTAMP:20260424T100540
CREATED:20230717T104117Z
LAST-MODIFIED:20230717T104141Z
UID:366746-1689786000-1689809400@www.ville-port.re
SUMMARY:Battle Kingdom Warriors
DESCRIPTION:Nouvelle édition du Battle Kingdom Warrior\nRetrouvez une nouvelle édition du Battle Kingdom Warrior\, ce Mercredi 19 à 17h00\, entrée libre. L’événement se déroulera 1 Rue de la Poste\, le Port. \n\n\n Au programme:\n\n7 to Smoke Guests\,\n5 vs 5 Break\,\n1 vs 1 B Girls\n2 vs 2 Hip-Hop\n\nPour plus d’informations appelez au 06 93 87 27 93
URL:https://www.ville-port.re/event/battle-kingdom-warriors-2023/
LOCATION:1 Rue de La Poste\, Le Port
CATEGORIES:Culture,Sportif
ATTACH;FMTTYPE=image/jpeg:https://www.ville-port.re/wp-content/uploads/2023/07/miniature-battle-kingdom-warriors-2023.jpg
END:VEVENT
BEGIN:VEVENT
DTSTART;TZID=Indian/Reunion:20230730T090000
DTEND;TZID=Indian/Reunion:20230730T180000
DTSTAMP:20260424T100540
CREATED:20230724T020054Z
LAST-MODIFIED:20230717T051413Z
UID:366733-1690707600-1690740000@www.ville-port.re
SUMMARY:Street Workout\, Reunion Cup Édition 2023
DESCRIPTION:Nouvelle édition de la Street Workout\, Reunion Cup \nLa Ville du Port et l’association Bek La Barre présentent une nouvelle édition du Street Workout Reunion Cup. Retrouvez l’événement le Dimanche 30 Juillet 2023 de 9h00 à 18h00 au parc de Street Workout du Port. Pour plus d’informations\, contactez-nous au 06 92 07 03 42 \nAu programme\, les qualifications pour \n\nLe championnat du monde Freestyle WSWCF à RIGA du 22 au 26 Août\nLe championnat de France Set & Reps FNSWC à Paris le 24 Septembre\nLa coupe de France Freestyle FNSWC à Saint-Pierre le 15 Novembre
URL:https://www.ville-port.re/event/street-workout-reunion-cup-2023/
CATEGORIES:Sportif
ATTACH;FMTTYPE=image/jpeg:https://www.ville-port.re/wp-content/uploads/2023/07/miniature-street-workout-reunion-cup-2023.jpg
END:VEVENT
END:VCALENDAR