BEGIN:VCALENDAR
VERSION:2.0
PRODID:-//Ville Port - ECPv6.15.18//NONSGML v1.0//EN
CALSCALE:GREGORIAN
METHOD:PUBLISH
X-WR-CALNAME:Ville Port
X-ORIGINAL-URL:https://www.ville-port.re
X-WR-CALDESC:Évènements pour Ville Port
REFRESH-INTERVAL;VALUE=DURATION:PT1H
X-Robots-Tag:noindex
X-PUBLISHED-TTL:PT1H
BEGIN:VTIMEZONE
TZID:Indian/Reunion
BEGIN:STANDARD
TZOFFSETFROM:+0400
TZOFFSETTO:+0400
TZNAME:+04
DTSTART:20210101T000000
END:STANDARD
END:VTIMEZONE
BEGIN:VEVENT
DTSTART;VALUE=DATE:20220703
DTEND;VALUE=DATE:20220704
DTSTAMP:20260425T073029
CREATED:20220701T054854Z
LAST-MODIFIED:20220701T054912Z
UID:360940-1656806400-1656892799@www.ville-port.re
SUMMARY:Street workout : en quête d’une qualification mondiale
DESCRIPTION:Un rendez-vous à ne pas manquer pour les amoureux du Street workout.\n \n\n\nL’association Bek La barre organise avec le soutien de la ville de Le Port l’étape réunionnaise de qualification pour les Championnats du monde.\n \n\n\nMusculation\, gymnastique et acrobatie…les meilleurs de la discipline sont attendus le dimanche 3 juillet\, de 9h à 18 h sur le parc de street workout\, du littoral nord à Le Port. Au programme 3 compétitions :\n \nFreestyle\, Street Lifting et Set & Reps. Les deux premiers concours ouvrent la voie à une participation aux championnats du monde prévus à Riga\, Letonnie en août prochain.\n \n\n\nInscriptions et renseignements: @beklabarre 06 92 07 03 42
URL:https://www.ville-port.re/event/street-workout-en-quete-dune-qualification-mondiale/
CATEGORIES:Sportif
ATTACH;FMTTYPE=image/jpeg:https://www.ville-port.re/wp-content/uploads/2022/07/289063110_10161774674254097_3612429905197086485_n.jpg
END:VEVENT
BEGIN:VEVENT
DTSTART;VALUE=DATE:20220709
DTEND;VALUE=DATE:20220711
DTSTAMP:20260425T073029
CREATED:20220628T082916Z
LAST-MODIFIED:20220628T084359Z
UID:360877-1657324800-1657497599@www.ville-port.re
SUMMARY:Inauguration du parc Boisé
DESCRIPTION:Vous êtes tous conviés à l’inauguration de la réhabilitation du Parc Boisé du Port\nSamedi 9 Juillet de 9h00 à 18h00\nDimanche 10 Juillet de 9h00 à 18H00\n \nAnimation sur 2 jours.
URL:https://www.ville-port.re/event/inauguration-du-parc-boise/
LOCATION:Parc Boisé\, 5a Rue Justin Baptiste\, Le Port\, 97420\, France
CATEGORIES:Culture,Sportif
ATTACH;FMTTYPE=image/jpeg:https://www.ville-port.re/wp-content/uploads/2022/06/20220510-leport-ParcBoisé-60x80-3.jpg
END:VEVENT
END:VCALENDAR