BEGIN:VCALENDAR
VERSION:2.0
PRODID:-//Ville Port - ECPv6.15.18//NONSGML v1.0//EN
CALSCALE:GREGORIAN
METHOD:PUBLISH
X-ORIGINAL-URL:https://www.ville-port.re
X-WR-CALDESC:Évènements pour Ville Port
REFRESH-INTERVAL;VALUE=DURATION:PT1H
X-Robots-Tag:noindex
X-PUBLISHED-TTL:PT1H
BEGIN:VTIMEZONE
TZID:Indian/Reunion
BEGIN:STANDARD
TZOFFSETFROM:+0400
TZOFFSETTO:+0400
TZNAME:+04
DTSTART:20200101T000000
END:STANDARD
END:VTIMEZONE
BEGIN:VEVENT
DTSTART;TZID=Indian/Reunion:20211210T180000
DTEND;TZID=Indian/Reunion:20211210T223000
DTSTAMP:20260425T193900
CREATED:20211201T124538Z
LAST-MODIFIED:20211201T124538Z
UID:358245-1639159200-1639175400@www.ville-port.re
SUMMARY:Urban'S Port
DESCRIPTION:Tout Public – « 50 ans de l’OMS » – Les activités sportives sont: Basket 3×3\, Zumba\, gymnastique\, athlétisme\, rollers\, course\, Vélo\, trotinette
URL:https://www.ville-port.re/event/urbans-port/
LOCATION:Place des Cheminots\, Place Des Cheminots\, Le Port\, 9\, Réunion
CATEGORIES:Sportif
ATTACH;FMTTYPE=image/jpeg:https://www.ville-port.re/wp-content/uploads/2021/12/251445751_2410215389109698_980332797123670693_n.jpg
ORGANIZER;CN="OMS":MAILTO:port.oms@wanadoo.fr
END:VEVENT
BEGIN:VEVENT
DTSTART;TZID=Indian/Reunion:20211212T190000
DTEND;TZID=Indian/Reunion:20211212T230000
DTSTAMP:20260425T193900
CREATED:20211201T131214Z
LAST-MODIFIED:20211201T131214Z
UID:358263-1639335600-1639350000@www.ville-port.re
SUMMARY:Finale de Coupe Interquartiers de Football
DESCRIPTION:Tout Public – « 50 ans de l’OMS »\n\n\n\n 
URL:https://www.ville-port.re/event/finale-de-coupe-interquartiers-de-football/
LOCATION:Stade Lambrakis\, Avenue Raymond Mondon\, Le Port\, 97420\, France
CATEGORIES:Sportif
ATTACH;FMTTYPE=image/jpeg:https://www.ville-port.re/wp-content/uploads/2021/12/251445751_2410215389109698_980332797123670693_n.jpg
END:VEVENT
BEGIN:VEVENT
DTSTART;TZID=Indian/Reunion:20211215T160000
DTEND;TZID=Indian/Reunion:20211215T183000
DTSTAMP:20260425T193900
CREATED:20211201T131458Z
LAST-MODIFIED:20211202T064826Z
UID:358267-1639584000-1639593000@www.ville-port.re
SUMMARY:Jeux de Noël
DESCRIPTION:« 50 ans de l’OMS » : Activités multisports visant à réunir des jeunes issus des différents quartiers de la Ville avec qui les éducateurs de l’Office interviennent tout au long de l’année.
URL:https://www.ville-port.re/event/jeux-de-noel/
LOCATION:Stade Lambrakis\, Avenue Raymond Mondon\, Le Port\, 97420\, France
CATEGORIES:Sportif
ATTACH;FMTTYPE=image/jpeg:https://www.ville-port.re/wp-content/uploads/2021/12/251445751_2410215389109698_980332797123670693_n.jpg
END:VEVENT
BEGIN:VEVENT
DTSTART;TZID=Indian/Reunion:20211217T180000
DTEND;TZID=Indian/Reunion:20211217T233000
DTSTAMP:20260425T193900
CREATED:20211202T063631Z
LAST-MODIFIED:20211202T063631Z
UID:358297-1639764000-1639783800@www.ville-port.re
SUMMARY:Remise des récompenses Interquartiers de football
DESCRIPTION:
URL:https://www.ville-port.re/event/remise-des-recompenses-interquartiers-de-football/
LOCATION:La Friche\, 1 rue de la poste\, Le Port\, 97420\, France
CATEGORIES:Sportif
ATTACH;FMTTYPE=image/jpeg:https://www.ville-port.re/wp-content/uploads/2021/12/251445751_2410215389109698_980332797123670693_n.jpg
END:VEVENT
BEGIN:VEVENT
DTSTART;TZID=Indian/Reunion:20211219T080000
DTEND;TZID=Indian/Reunion:20211219T170000
DTSTAMP:20260425T193900
CREATED:20211202T074903Z
LAST-MODIFIED:20211202T075701Z
UID:358317-1639900800-1639933200@www.ville-port.re
SUMMARY:Jeux Interquartiers 50 ans de l’OMS
DESCRIPTION:Tout public – « 50 ans de l’OMS » : Dix équipes de huit personnes des quartiers s’affrontent amicalement à travers une série d’épreuves physiques et de jeux d’adresse
URL:https://www.ville-port.re/event/jeux-interquartiers-50-ans-de-loms/
LOCATION:Stade Lambrakis\, Avenue Raymond Mondon\, Le Port\, 97420\, France
CATEGORIES:Sportif
ATTACH;FMTTYPE=image/jpeg:https://www.ville-port.re/wp-content/uploads/2021/12/251445751_2410215389109698_980332797123670693_n.jpg
END:VEVENT
BEGIN:VEVENT
DTSTART;TZID=Indian/Reunion:20211220T080000
DTEND;TZID=Indian/Reunion:20211220T190000
DTSTAMP:20260425T193900
CREATED:20211202T101241Z
LAST-MODIFIED:20211202T101241Z
UID:358323-1639987200-1640026800@www.ville-port.re
SUMMARY:Stage de Gardiens Melvin Adrien
DESCRIPTION:CSM ou Lambrakis \n50 ans de l’OMS
URL:https://www.ville-port.re/event/stage-de-gardiens-melvin-adrien/
CATEGORIES:Sportif
ATTACH;FMTTYPE=image/jpeg:https://www.ville-port.re/wp-content/uploads/2021/12/251445751_2410215389109698_980332797123670693_n.jpg
END:VEVENT
BEGIN:VEVENT
DTSTART;VALUE=DATE:20211228
DTEND;VALUE=DATE:20211231
DTSTAMP:20260425T193900
CREATED:20211202T101708Z
LAST-MODIFIED:20211202T101708Z
UID:358325-1640649600-1640908799@www.ville-port.re
SUMMARY:Meeting International (La Jeanne Ouest Natation)
DESCRIPTION:Compétition
URL:https://www.ville-port.re/event/meeting-international-la-jeanne-ouest-natation/
LOCATION:Piscine olympique municipale Jean-Lou Javoy\, Rue Andre Suarez\, Le Port\, 97420
CATEGORIES:Sportif
ATTACH;FMTTYPE=image/jpeg:https://www.ville-port.re/wp-content/uploads/2021/12/Piscine.jpg
END:VEVENT
END:VCALENDAR