BEGIN:VCALENDAR
VERSION:2.0
PRODID:-//Ville Port - ECPv6.15.18//NONSGML v1.0//EN
CALSCALE:GREGORIAN
METHOD:PUBLISH
X-WR-CALNAME:Ville Port
X-ORIGINAL-URL:https://www.ville-port.re
X-WR-CALDESC:Évènements pour Ville Port
REFRESH-INTERVAL;VALUE=DURATION:PT1H
X-Robots-Tag:noindex
X-PUBLISHED-TTL:PT1H
BEGIN:VTIMEZONE
TZID:Indian/Reunion
BEGIN:STANDARD
TZOFFSETFROM:+0400
TZOFFSETTO:+0400
TZNAME:+04
DTSTART:20240101T000000
END:STANDARD
END:VTIMEZONE
BEGIN:VEVENT
DTSTART;VALUE=DATE:20250906
DTEND;VALUE=DATE:20251004
DTSTAMP:20260423T210104
CREATED:20250905T065043Z
LAST-MODIFIED:20250905T065213Z
UID:373874-1757116800-1759535999@www.ville-port.re
SUMMARY:Soldes : place aux bonnes affaires au centre-ville !
DESCRIPTION:Préparez-vous\, c’est le top départ des soldes ce samedi.\nRendez-vous du 6 septembre au 3 octobre 2025 pour faire de bonnes affaires et profiter de votre centre-ville dans une ambiance festive. \nL’ACP- Association des commerçants du Port soutenue par la ville du Port vous propose\n✅ une ouverture en journée continue ce samedi\n✅ des offres exceptionnelles\n✅ parking gratuit \nProfitez des soldes pour demander votre carte de fidélité
URL:https://www.ville-port.re/event/soldes-acp-septembre-octobre-2025/
CATEGORIES:Économie,Pratique
ATTACH;FMTTYPE=image/jpeg:https://www.ville-port.re/wp-content/uploads/2025/09/soldes-acp-septembre-octovbre-2025-scaled.jpg
END:VEVENT
BEGIN:VEVENT
DTSTART;TZID=Indian/Reunion:20250912T080000
DTEND;TZID=Indian/Reunion:20250913T170000
DTSTAMP:20260423T210104
CREATED:20250910T101901Z
LAST-MODIFIED:20250910T101901Z
UID:373910-1757664000-1757782800@www.ville-port.re
SUMMARY:Les Galeries Circulaires reviennent les 12 et 13 septembre
DESCRIPTION:Préparez-vous à faire de bonnes affaires auprès des acteurs et associations oeuvrant dans le domaine de l’Économie Sociale et Solidaire (ESS).\n\n\n\n La prochaine édition des Galeries Circulaires du Port se déroulera sur 2 jours.\nVendredi 12 septembre de 9h à 12h et samedi 13 septembre de 8h à 12h\n\n\n Halle des Manifestations\, Le Port\n\n\n Vous y trouverez fruits et légumes\, vélos\, ordinateurs\, vêtements et la Brocante aux matériaux.\n\n\nL’atelier zéro déchet est reconduit. Possibilité de réparer ou de faire réparer vélos\, petits électroménagers\, ordinateurs.\n\n\nCette initiative de la ville du Port favorisant le réemploi est menée avec des associations partenaires dans le cadre du développement du futur Hub de l’ESS – Économie Sociale et Solidaire sur le territoire.\n\n\nPlus d’infos  0692 66 77 83
URL:https://www.ville-port.re/event/galeries-circulaires-12-13-septembre-2025/
LOCATION:Halle des manifestations\, 3 Boulevard des Mascareignes\, Le Port\, 97420\, Réunion
CATEGORIES:Économie
ATTACH;FMTTYPE=image/jpeg:https://www.ville-port.re/wp-content/uploads/2025/09/galeries-circulaires-12-13-septembre-2025.jpg
END:VEVENT
END:VCALENDAR