BEGIN:VCALENDAR
VERSION:2.0
PRODID:-//Ville Port - ECPv6.15.18//NONSGML v1.0//EN
CALSCALE:GREGORIAN
METHOD:PUBLISH
X-WR-CALNAME:Ville Port
X-ORIGINAL-URL:https://www.ville-port.re
X-WR-CALDESC:Évènements pour Ville Port
REFRESH-INTERVAL;VALUE=DURATION:PT1H
X-Robots-Tag:noindex
X-PUBLISHED-TTL:PT1H
BEGIN:VTIMEZONE
TZID:Indian/Reunion
BEGIN:STANDARD
TZOFFSETFROM:+0400
TZOFFSETTO:+0400
TZNAME:+04
DTSTART:20240101T000000
END:STANDARD
END:VTIMEZONE
BEGIN:VEVENT
DTSTART;VALUE=DATE:20250806
DTEND;VALUE=DATE:20250816
DTSTAMP:20260423T223317
CREATED:20250725T074532Z
LAST-MODIFIED:20250725T075119Z
UID:373260-1754438400-1755302399@www.ville-port.re
SUMMARY:Journées Commerciales – Du 6 au 15 août 2025
DESCRIPTION:Le centre-ville du Port s’anime pour dix jours de shopping et de festivités ! Profitez d’animations\, de manèges pour toute la famille et de nombreuses bonnes affaires proposées par vos commerçants. \nCette année\, un invité spécial viendra enflammer l’événement : Benji !Un lot exceptionnel est également à gagner : vivez une expérience unique avec un survol en hélicoptère. \nLes petits plus : \n\n\nParkings gratuits \n\n\nCarte de fidélité \n\n\nSuivez l’actu sur shopleport.re \n\n\nRejoignez-nous du 6 au 15 août pour des journées inoubliables au Port !Plus d’infos sur www.ville-port.re
URL:https://www.ville-port.re/event/journees-commerciales-6-15-aout-2025/
CATEGORIES:Économie,Pratique
ATTACH;FMTTYPE=image/jpeg:https://www.ville-port.re/wp-content/uploads/2025/07/journee-commerciales-aout-2025-spot-tv-scaled.jpg
END:VEVENT
BEGIN:VEVENT
DTSTART;TZID=Indian/Reunion:20250808T090000
DTEND;TZID=Indian/Reunion:20250808T140000
DTSTAMP:20260423T223317
CREATED:20250804T065054Z
LAST-MODIFIED:20250808T041253Z
UID:373637-1754643600-1754661600@www.ville-port.re
SUMMARY:Les Galeries Circulaires reviennent le vendredi 8 août
DESCRIPTION:Retrouvez tous les acteurs et associations oeuvrant dans le domaine de l’Économie Sociale et Solidaire (ESS)\, le 8 août 2025\, à la Halle des Manifestations du Port pour les Galeries Circulaires de 9h à 14h.\n\n\nL’atelier zéro déchet est reconduit ! Possibilité de réparer ou de faire réparer vélos\, petits électroménagers\, ordinateurs.\n  Vélos\, ordinateurs\, plantes\, décoration à petits prix et une brocante aux matériaux… Ne manquez pas l’occasion de faire de bonnes affaires et de participer à un événement phare de l’économie circulaire !\n\n\n Entrée gratuite. Plus d’infos 0692 66 77 83.
URL:https://www.ville-port.re/event/galeries-circulaires-vendredi-8-aout-2025/
CATEGORIES:Économie,Pratique
ATTACH;FMTTYPE=image/jpeg:https://www.ville-port.re/wp-content/uploads/2025/08/galeries-circulaires-vendredi-8-aout-2025.jpg
END:VEVENT
END:VCALENDAR