BEGIN:VCALENDAR
VERSION:2.0
PRODID:-//Ville Port - ECPv6.15.18//NONSGML v1.0//EN
CALSCALE:GREGORIAN
METHOD:PUBLISH
X-WR-CALNAME:Ville Port
X-ORIGINAL-URL:https://www.ville-port.re
X-WR-CALDESC:Évènements pour Ville Port
REFRESH-INTERVAL;VALUE=DURATION:PT1H
X-Robots-Tag:noindex
X-PUBLISHED-TTL:PT1H
BEGIN:VTIMEZONE
TZID:Indian/Reunion
BEGIN:STANDARD
TZOFFSETFROM:+0400
TZOFFSETTO:+0400
TZNAME:+04
DTSTART:20230101T000000
END:STANDARD
END:VTIMEZONE
BEGIN:VEVENT
DTSTART;TZID=Indian/Reunion:20241213T083000
DTEND;TZID=Indian/Reunion:20241214T120000
DTSTAMP:20260421T140617
CREATED:20241203T061544Z
LAST-MODIFIED:20241206T043405Z
UID:370945-1734078600-1734177600@www.ville-port.re
SUMMARY:Galeries Circulaires\, 13 et 14 décembre à la Halle des Manifestations du Port
DESCRIPTION:Galeries Circulaires – Les 13 et 14 décembre à la Halle des Manifestations du Port\nLe rendez-vous des bonnes affaires !\nParticipez à cet événement dédié à l’économie circulaire. Retrouvez une large sélection de produits locaux et durables : fruits et légumes bio\, vélos\, ordinateurs\, vêtements\, accessoires\, décorations\, et bien plus encore. \n\nVendredi 13 décembre : de 9h à 12h\nSamedi 14 décembre : de 8h30 à 12h\n\nPour plus d’informations : 06 92 66 77 83\nAvec le soutien de la Ville du Port\, Synergie Péi\, et des partenaires engagés.
URL:https://www.ville-port.re/event/galeries-circulaires-13-14-decembre-2024/
LOCATION:Halle des manifestations\, 3 Boulevard des Mascareignes\, Le Port\, 97420\, Réunion
CATEGORIES:Économie,Pratique
ATTACH;FMTTYPE=image/jpeg:https://www.ville-port.re/wp-content/uploads/2024/12/Miniature-Affiche-Galeries-Circulaires.jpg
END:VEVENT
END:VCALENDAR