BEGIN:VCALENDAR
VERSION:2.0
PRODID:-//Ville Port - ECPv6.15.18//NONSGML v1.0//EN
CALSCALE:GREGORIAN
METHOD:PUBLISH
X-ORIGINAL-URL:https://www.ville-port.re
X-WR-CALDESC:Évènements pour Ville Port
REFRESH-INTERVAL;VALUE=DURATION:PT1H
X-Robots-Tag:noindex
X-PUBLISHED-TTL:PT1H
BEGIN:VTIMEZONE
TZID:Indian/Reunion
BEGIN:STANDARD
TZOFFSETFROM:+0400
TZOFFSETTO:+0400
TZNAME:+04
DTSTART:20230101T000000
END:STANDARD
END:VTIMEZONE
BEGIN:VEVENT
DTSTART;TZID=Indian/Reunion:20240614T090000
DTEND;TZID=Indian/Reunion:20240614T130000
DTSTAMP:20260420T002825
CREATED:20240612T112532Z
LAST-MODIFIED:20240612T112559Z
UID:369589-1718355600-1718370000@www.ville-port.re
SUMMARY:Les Galeries Circulaires reviennent !
DESCRIPTION:Matériaux\, vélos\, ordinateurs\, fruits et légumes frais et Bio ! Rendez-vous aux Galeries Circulaires du Port pour trouver tous vos produits à bas prix. Cette initiative de la ville du Port\, qui favorise le réemploi\, est menée dans le cadre du développement du futur Hub de l’ESS (Économie Sociale et Solidaire) sur le territoire. Elle est organisée en partenariat avec des associations telles que Synergie Péï pour la brocante aux matériaux.\n\n\nNe manquez pas cet événement : vendredi 14 juin 2024 de 9h à 11h30 à la Halle des Manifestations du Port.\n\n\n \nPour plus d’informations\, appelez le 0692 82 45 67
URL:https://www.ville-port.re/event/retour-galeries-circulaires-juin-2024/
LOCATION:Halle des manifestations\, 3 Boulevard des Mascareignes\, Le Port\, 97420\, Réunion
CATEGORIES:Économie
ATTACH;FMTTYPE=image/jpeg:https://www.ville-port.re/wp-content/uploads/2024/06/miniature-retour-galeries-circulaires-juin-2024.jpg
END:VEVENT
END:VCALENDAR