BEGIN:VCALENDAR
VERSION:2.0
PRODID:-//Ville Port - ECPv6.15.18//NONSGML v1.0//EN
CALSCALE:GREGORIAN
METHOD:PUBLISH
X-WR-CALNAME:Ville Port
X-ORIGINAL-URL:https://www.ville-port.re
X-WR-CALDESC:Évènements pour Ville Port
REFRESH-INTERVAL;VALUE=DURATION:PT1H
X-Robots-Tag:noindex
X-PUBLISHED-TTL:PT1H
BEGIN:VTIMEZONE
TZID:Indian/Reunion
BEGIN:STANDARD
TZOFFSETFROM:+0400
TZOFFSETTO:+0400
TZNAME:+04
DTSTART:20230101T000000
END:STANDARD
END:VTIMEZONE
BEGIN:VEVENT
DTSTART;TZID=Indian/Reunion:20240515T090000
DTEND;TZID=Indian/Reunion:20240515T120000
DTSTAMP:20260420T020330
CREATED:20240513T045005Z
LAST-MODIFIED:20240513T045005Z
UID:369370-1715763600-1715774400@www.ville-port.re
SUMMARY:Permanence d’accès aux soins
DESCRIPTION:Consultation médicale gratuite\, aide dans vos démarches administratives… n’hésitez plus pour profiter des consultations délocalisées de la Permanence d’Accès aux Soins de Santé (PASS) du CHOR. Chaque mois deux rendez-vous sont proposés au Port : le 2ème jeudi au comité des chômeurs et des mal-logés – 0262 43 42 68 et le 3ème mercredi au centre social FAR FAR – 0262 43 90 91 . La prochaine consultation aura lieu à FarFar le mercredi 15 mai 2024 de 9h à 12h.
URL:https://www.ville-port.re/event/permanence-acces-soins-mai-2024/
LOCATION:FarFar\, 5 Rue Louise Michel\, Le Port\, 97420\, France
CATEGORIES:Culture,Économie
ATTACH;FMTTYPE=image/jpeg:https://www.ville-port.re/wp-content/uploads/2024/05/miniature-permanence-acces-soins-mai-2024.jpg
END:VEVENT
END:VCALENDAR