BEGIN:VCALENDAR
VERSION:2.0
PRODID:-//Ville Port - ECPv6.15.18//NONSGML v1.0//EN
CALSCALE:GREGORIAN
METHOD:PUBLISH
X-ORIGINAL-URL:https://www.ville-port.re
X-WR-CALDESC:Évènements pour Ville Port
REFRESH-INTERVAL;VALUE=DURATION:PT1H
X-Robots-Tag:noindex
X-PUBLISHED-TTL:PT1H
BEGIN:VTIMEZONE
TZID:Indian/Reunion
BEGIN:STANDARD
TZOFFSETFROM:+0400
TZOFFSETTO:+0400
TZNAME:+04
DTSTART:20230101T000000
END:STANDARD
END:VTIMEZONE
BEGIN:VEVENT
DTSTART;TZID=Indian/Reunion:20240514T090000
DTEND;TZID=Indian/Reunion:20240514T150000
DTSTAMP:20260420T020203
CREATED:20240513T102657Z
LAST-MODIFIED:20240513T103034Z
UID:369383-1715677200-1715698800@www.ville-port.re
SUMMARY:Job dating alternance
DESCRIPTION:Rendez-vous ce mardi 14 mai pour un job dating spécial alternance\, de 9h à 15h à la salle Paulette Adois Lacpatia au Port. Le Groupe Ravate avec le soutien de la Ville propose de nombreuses offres permettant de concilier études et travail dans plusieurs enseignes : Leroy Merlin Le Port Réunion \, Weldom Réunion\, Intersport Réunion \, RDéco \, RElectro \, Celio entre autres.
URL:https://www.ville-port.re/event/job-dating-alternance-14-mai-ville-port/
LOCATION:Centre Paulette Adois Lacpatia\, 4 avenue Louis Aragon\, Le Port\, 97420\, Réunion
CATEGORIES:Économie
ATTACH;FMTTYPE=image/jpeg:https://www.ville-port.re/wp-content/uploads/2024/05/miniature-job-dating-alternance-14-mai-ville-port.jpg
END:VEVENT
END:VCALENDAR