BEGIN:VCALENDAR
VERSION:2.0
PRODID:-//Ville Port - ECPv6.15.18//NONSGML v1.0//EN
CALSCALE:GREGORIAN
METHOD:PUBLISH
X-WR-CALNAME:Ville Port
X-ORIGINAL-URL:https://www.ville-port.re
X-WR-CALDESC:Évènements pour Ville Port
REFRESH-INTERVAL;VALUE=DURATION:PT1H
X-Robots-Tag:noindex
X-PUBLISHED-TTL:PT1H
BEGIN:VTIMEZONE
TZID:Indian/Reunion
BEGIN:STANDARD
TZOFFSETFROM:+0400
TZOFFSETTO:+0400
TZNAME:+04
DTSTART:20230101T000000
END:STANDARD
END:VTIMEZONE
BEGIN:VEVENT
DTSTART;TZID=Indian/Reunion:20240412T090000
DTEND;TZID=Indian/Reunion:20240412T113000
DTSTAMP:20260420T034843
CREATED:20240410T105000Z
LAST-MODIFIED:20240410T105027Z
UID:369154-1712912400-1712921400@www.ville-port.re
SUMMARY:Les galeries circulaires du Port ce vendredi
DESCRIPTION:Matériaux\, vélos\, ordinateurs… toute une série de produits sera proposée à bas prix lors des Galeries Circulaires du Port. Cette initiative de la ville du Port favorisant le réemploi est menée avec les associations partenaires : AGAME\, An Grèn Koulér (AGK)\, AGIDESU\, Académie pour l’Egalité des Chances (AEC) et Synergie Péï et des artisans de la Rivières des Galets\, dans le cadre du développement du futur Hub de l’ESS – Économie Sociale et Solidaire sur le territoire.\n\n\n\n Vendredi 12 avril 2024 de 9h à 11h30 à la Halle des Manifestations.\n d’infos au 0692 82 45 67
URL:https://www.ville-port.re/event/galeries-circulaires-vendredi-12-avril-2024/
LOCATION:Halle des manifestations\, 3 Boulevard des Mascareignes\, Le Port\, 97420\, Réunion
CATEGORIES:Économie
ATTACH;FMTTYPE=image/jpeg:https://www.ville-port.re/wp-content/uploads/2024/04/miniature-galeries-circulaires-vendredi-12-avril-2024.jpg
END:VEVENT
END:VCALENDAR