BEGIN:VCALENDAR
VERSION:2.0
PRODID:-//Ville Port - ECPv6.15.18//NONSGML v1.0//EN
CALSCALE:GREGORIAN
METHOD:PUBLISH
X-WR-CALNAME:Ville Port
X-ORIGINAL-URL:https://www.ville-port.re
X-WR-CALDESC:Évènements pour Ville Port
REFRESH-INTERVAL;VALUE=DURATION:PT1H
X-Robots-Tag:noindex
X-PUBLISHED-TTL:PT1H
BEGIN:VTIMEZONE
TZID:Indian/Reunion
BEGIN:STANDARD
TZOFFSETFROM:+0400
TZOFFSETTO:+0400
TZNAME:+04
DTSTART:20220101T000000
END:STANDARD
END:VTIMEZONE
BEGIN:VEVENT
DTSTART;VALUE=DATE:20231125
DTEND;VALUE=DATE:20231126
DTSTAMP:20260422T131305
CREATED:20231117T060857Z
LAST-MODIFIED:20231120T100111Z
UID:367923-1700870400-1700956799@www.ville-port.re
SUMMARY:Semaine européenne de la réduction des déchets
DESCRIPTION:Repensons notre mode de consommation\nÀ l’occasion de la semaine européenne de la réduction des déchets qui aura lieu du 18 au 26 Novembre 2023\, plusieurs activités seront mises en place : Don\, troc\, réparation\, réemploi et recyclage \n\nAteliers\,\nIdées cadeaux\,\nSensibilisation\,\nEt visite de site\n\nRendez-vous à la Maison de quartier de la cité RN4 de 8h à 12h\, au programme : \n\nStand de sensibilisation\nAtelier manuel\nAtelier réparation de vélo\n\n+ d’infos et inscription aux ateliers sur www.tco.re
URL:https://www.ville-port.re/event/semaine-europeenne-reduction-dechets/
CATEGORIES:Économie
ATTACH;FMTTYPE=image/jpeg:https://www.ville-port.re/wp-content/uploads/2023/11/miniature-semaine-europeenne-reduction-dechets-rn4.jpg
END:VEVENT
END:VCALENDAR