BEGIN:VCALENDAR
VERSION:2.0
PRODID:-//Ville Port - ECPv6.15.18//NONSGML v1.0//EN
CALSCALE:GREGORIAN
METHOD:PUBLISH
X-WR-CALNAME:Ville Port
X-ORIGINAL-URL:https://www.ville-port.re
X-WR-CALDESC:Évènements pour Ville Port
REFRESH-INTERVAL;VALUE=DURATION:PT1H
X-Robots-Tag:noindex
X-PUBLISHED-TTL:PT1H
BEGIN:VTIMEZONE
TZID:Indian/Reunion
BEGIN:STANDARD
TZOFFSETFROM:+0400
TZOFFSETTO:+0400
TZNAME:+04
DTSTART:20220101T000000
END:STANDARD
END:VTIMEZONE
BEGIN:VEVENT
DTSTART;VALUE=DATE:20231108
DTEND;VALUE=DATE:20231109
DTSTAMP:20260422T131223
CREATED:20231101T033019Z
LAST-MODIFIED:20231030T050833Z
UID:367661-1699401600-1699487999@www.ville-port.re
SUMMARY:Vien war a nou dann' Saravàn
DESCRIPTION:Vien war a nou dann’ Saravàn pou donn zot l’avi !\nVenez donner votre avis sur le nouveau Schéma d’Aménagement Régional (SAR) qui aura lieu le Mercredi 8 Novembre\, Place du Marché Forain. \nUn événement organisé par la Ville du Port\, le SAR et la Région Réunion
URL:https://www.ville-port.re/event/vien-war-a-nou-dann-saravan-8-novembre-2023/
LOCATION:Place du Marché Forain
CATEGORIES:Économie
ATTACH;FMTTYPE=image/jpeg:https://www.ville-port.re/wp-content/uploads/2023/10/miniature-vien-war-a-nou-dann-saravan-8-novembre-2023.jpg
END:VEVENT
END:VCALENDAR