BEGIN:VCALENDAR
VERSION:2.0
PRODID:-//Ville Port - ECPv6.15.18//NONSGML v1.0//EN
CALSCALE:GREGORIAN
METHOD:PUBLISH
X-WR-CALNAME:Ville Port
X-ORIGINAL-URL:https://www.ville-port.re
X-WR-CALDESC:Évènements pour Ville Port
REFRESH-INTERVAL;VALUE=DURATION:PT1H
X-Robots-Tag:noindex
X-PUBLISHED-TTL:PT1H
BEGIN:VTIMEZONE
TZID:Indian/Reunion
BEGIN:STANDARD
TZOFFSETFROM:+0400
TZOFFSETTO:+0400
TZNAME:+04
DTSTART:20220101T000000
END:STANDARD
END:VTIMEZONE
BEGIN:VEVENT
DTSTART;TZID=Indian/Reunion:20231030T080000
DTEND;TZID=Indian/Reunion:20231104T160000
DTSTAMP:20260422T132843
CREATED:20231026T023033Z
LAST-MODIFIED:20231024T113719Z
UID:367632-1698652800-1699113600@www.ville-port.re
SUMMARY:La Semaine du handicap - 3e Édition
DESCRIPTION:La semaine du Handicap revient pour une nouvelle édition: \n\nLUNDI 30 OCTOBRE 2023 DE 08H00 A 12H00\nThème : Accès aux droits\nPôle Handicap Le Port\n72 Rue St Paul 97420 Le Port\nAccès tout public\nLUNDI 30 OCTOBRE 2023 DE 13H30 A 17H00\nThème : Conférence sur « Les droits et les devoirs familles d’accueil »\nPôle Handicap Le Port\n72 Rue St Paul 97420 Le Port\nPlaces limites\nMARDI 31 OCTOBRE 2023 DE 13H30 A 17H00\nThème : Débats/Échanges sur « Donner la parole aux parents / enfant autiste »\nMaison de la parentalité du Port\n5 Avenue Louis Aragon 97420 Le Port\nPlaces limites\nJEUDI 02 NOVEMBRE 2023 DE 08H00 A 13H00\nThème : Emploi/Formation\nCentre Paulette Lacpatia (Salle Cœur Saignant)\n5 Avenue Louis Aragon 97420 Le Port\nAccès tout public\nSAMEDI 04 NOVEMBRE 2023 DE 09H00 A 16H00\nThème : Journée de l’handicap\nComplexe Sportif Municipal\n14 Rue Sans Souci 97420 Le Port\nAccès tout public\n\nPour plus d’informations veuillez contacter :\nAssociation Liaison\, 40 Rue Jean Jaures 97420 Le Port\nNuméros: 0262 43 16 15 / 06 93 60 48 98\nCourriel: liaison.association@hotmail.fr
URL:https://www.ville-port.re/event/3e-edition-semaine-handicap/
CATEGORIES:Économie
ATTACH;FMTTYPE=image/jpeg:https://www.ville-port.re/wp-content/uploads/2023/10/miniature-3e-edition-semaine-handicap.jpg
END:VEVENT
END:VCALENDAR