BEGIN:VCALENDAR
VERSION:2.0
PRODID:-//Ville Port - ECPv6.15.18//NONSGML v1.0//EN
CALSCALE:GREGORIAN
METHOD:PUBLISH
X-WR-CALNAME:Ville Port
X-ORIGINAL-URL:https://www.ville-port.re
X-WR-CALDESC:Évènements pour Ville Port
REFRESH-INTERVAL;VALUE=DURATION:PT1H
X-Robots-Tag:noindex
X-PUBLISHED-TTL:PT1H
BEGIN:VTIMEZONE
TZID:Indian/Reunion
BEGIN:STANDARD
TZOFFSETFROM:+0400
TZOFFSETTO:+0400
TZNAME:+04
DTSTART:20220101T000000
END:STANDARD
END:VTIMEZONE
BEGIN:VEVENT
DTSTART;TZID=Indian/Reunion:20230911T080000
DTEND;TZID=Indian/Reunion:20231027T170000
DTSTAMP:20260422T144624
CREATED:20230911T044950Z
LAST-MODIFIED:20230911T045011Z
UID:367201-1694419200-1698426000@www.ville-port.re
SUMMARY:CAMPAGNE ASSOCIATIVE 2024 - APPELS A PROJETS
DESCRIPTION:Depuis 2O15\, la Ville de Le Port s’est engagée dans une démarche volontariste de structuration des relations avec les associations. \nLa campagne associative est séquencée en quatre temps : \n\nInformation / Communication ;\nInstruction des demandes ;\nEngagement juridique et comptable de subventions allouées ;\nÉvaluation des impacts des moyens publics mobilisés\n\nVeuillez retrouver ci-dessous l’ensemble des éléments obligatoires à la demande de subvention : \n \n			\n				DOSSIER DEMANDE DE SUBVENTION
URL:https://www.ville-port.re/event/campagne-associative-2024-appels-a-projets/
CATEGORIES:Culture,Économie,Sportif
ATTACH;FMTTYPE=image/jpeg:https://www.ville-port.re/wp-content/uploads/2023/09/miniature-demande-subvention-2024.jpg
END:VEVENT
BEGIN:VEVENT
DTSTART;TZID=Indian/Reunion:20231017T090000
DTEND;TZID=Indian/Reunion:20231017T130000
DTSTAMP:20260422T144624
CREATED:20231005T120352Z
LAST-MODIFIED:20231006T070932Z
UID:367453-1697533200-1697547600@www.ville-port.re
SUMMARY:Village de l'Emploi - Octobre 2023
DESCRIPTION:Le Village de l’Emploi a été imaginé par la Ville du Port et ses partenaires pour favoriser l’insertion professionnelle et la formation professionnelle. \nVous voulez rencontrer les entreprises qui recrutent ou tout simplement vous renseigner\, rejoignez-nous le mardi 17 octobre\, de 9h à 13h au Port au Complexe Sportif Edmond Albius (Boulevard de Tamatave) à côté de la piscine municipale. 5 pôles seront mis en place : \n✅ Village Entrepreneuriat\n✅ Village Formations\n✅ Village Métiers\n✅ Village de l’Accompagnement\n✅ Village Job Dating
URL:https://www.ville-port.re/event/village-de-lemploi-octobre-2023-2/
CATEGORIES:Économie
ATTACH;FMTTYPE=image/jpeg:https://www.ville-port.re/wp-content/uploads/2023/10/miniature-affiche-village-emploi-v12.jpg
END:VEVENT
END:VCALENDAR