BEGIN:VCALENDAR
VERSION:2.0
PRODID:-//Ville Port - ECPv6.15.18//NONSGML v1.0//EN
CALSCALE:GREGORIAN
METHOD:PUBLISH
X-ORIGINAL-URL:https://www.ville-port.re
X-WR-CALDESC:Évènements pour Ville Port
REFRESH-INTERVAL;VALUE=DURATION:PT1H
X-Robots-Tag:noindex
X-PUBLISHED-TTL:PT1H
BEGIN:VTIMEZONE
TZID:Indian/Reunion
BEGIN:STANDARD
TZOFFSETFROM:+0400
TZOFFSETTO:+0400
TZNAME:+04
DTSTART:20230101T000000
END:STANDARD
END:VTIMEZONE
BEGIN:VEVENT
DTSTART;TZID=Indian/Reunion:20240307T080000
DTEND;TZID=Indian/Reunion:20240307T120000
DTSTAMP:20260420T034905
CREATED:20240302T043050Z
LAST-MODIFIED:20240305T044232Z
UID:368858-1709798400-1709812800@www.ville-port.re
SUMMARY:Rejoignez la Karavan Sak i Aid au Port le 7 Mars 2024 au Port
DESCRIPTION:La ville du Port propose aux aidants familiaux de bénéficier des services de la Karavan Sak i Aid\, un espace d’écoute et de conseils. Le dispositif itinérant de proximité du GIP SAP est présent une fois par mois au Port. Les aidants pourront avoir accès à des informations sur les aides\, services et structures adaptés à leurs besoins et à ceux de leurs proches.\nProchain rendez-vous : mercredi 7 mars 2024\, au CSM\, lors de la Karavane du Bel Âge. Découvrez ci-dessous le planning pour 2024. Infos au 0 800 530 002
URL:https://www.ville-port.re/event/karavan-sak-i-aid-7-mars-2024-au-port/
LOCATION:Complexe sportif municipal\, 14 Rue des Sans Soucis\, Le Port\, 97420\, Réunion
CATEGORIES:Économie
ATTACH;FMTTYPE=image/jpeg:https://www.ville-port.re/wp-content/uploads/2024/03/miniature-karavan-sak-i-aid-7-mars-2024-au-port.jpg
END:VEVENT
BEGIN:VEVENT
DTSTART;TZID=Indian/Reunion:20240308T090000
DTEND;TZID=Indian/Reunion:20240308T110000
DTSTAMP:20260420T034905
CREATED:20240307T043554Z
LAST-MODIFIED:20240307T043614Z
UID:368923-1709888400-1709895600@www.ville-port.re
SUMMARY:Nouvelle brocante aux matériaux ce vendredi 8 mars
DESCRIPTION:Rendez-vous ce vendredi 8 mars de 9h à 11h à la Halle des manifestations du Port pour la nouvelle édition de la brocante aux matériaux. Vous y trouverez des matériaux de réemploi\, récupérés\, recyclés et / ou reconditionnés\, à petits prix.
URL:https://www.ville-port.re/event/nouvelle-brocante-materieux-mars-2024/
LOCATION:Halle des manifestations\, 3 Boulevard des Mascareignes\, Le Port\, 97420\, Réunion
CATEGORIES:Économie
ATTACH;FMTTYPE=image/jpeg:https://www.ville-port.re/wp-content/uploads/2024/03/miniature-nouvelle-brocante-materieux-mars-2024.jpg
END:VEVENT
END:VCALENDAR