BEGIN:VCALENDAR
VERSION:2.0
PRODID:-//Ville Port - ECPv6.15.18//NONSGML v1.0//EN
CALSCALE:GREGORIAN
METHOD:PUBLISH
X-WR-CALNAME:Ville Port
X-ORIGINAL-URL:https://www.ville-port.re
X-WR-CALDESC:Évènements pour Ville Port
REFRESH-INTERVAL;VALUE=DURATION:PT1H
X-Robots-Tag:noindex
X-PUBLISHED-TTL:PT1H
BEGIN:VTIMEZONE
TZID:Indian/Reunion
BEGIN:STANDARD
TZOFFSETFROM:+0400
TZOFFSETTO:+0400
TZNAME:+04
DTSTART:20220101T000000
END:STANDARD
END:VTIMEZONE
BEGIN:VEVENT
DTSTART;TZID=Indian/Reunion:20230817T090000
DTEND;TZID=Indian/Reunion:20230817T120000
DTSTAMP:20260422T160718
CREATED:20230816T060427Z
LAST-MODIFIED:20230816T060443Z
UID:366915-1692262800-1692273600@www.ville-port.re
SUMMARY:Faites le plein de fruits et légumes bio !
DESCRIPTION:Un bazar bio se tient ce jeudi 17 août de 9h à 12h devant le Centre social et culturel Cœur Saignant. Des fruits et légumes bio seront proposés à 1€ le kilo\, dans la limite des stocks disponibles dans le cadre du Contrat de Ville en partenariat avec la SHLMR\, la SODIAC\, l’État\, le Centre social et culturel Cœur Saignan et Uprobio.
URL:https://www.ville-port.re/event/faites-le-plein-de-fruits-et-legumes-bio/
LOCATION:Centre social Paulette Adois Lacpatia\, Av. Louis Aragon\, Le Port\, 97420\, France
CATEGORIES:Économie
ATTACH;FMTTYPE=image/jpeg:https://www.ville-port.re/wp-content/uploads/2023/08/365274913_684744327030955_3834458666301270827_n.jpg
END:VEVENT
BEGIN:VEVENT
DTSTART;TZID=Indian/Reunion:20230824T100000
DTEND;TZID=Indian/Reunion:20230824T140000
DTSTAMP:20260422T160718
CREATED:20230821T055413Z
LAST-MODIFIED:20230821T055437Z
UID:366960-1692871200-1692885600@www.ville-port.re
SUMMARY:La Chambre des Métiers et de l'Artisanat à votre rencontre
DESCRIPTION:La Chambre des Métiers et de l’Artisanat à votre rencontre\nRetrouvez la Chambre des Métiers de l’Artisanat ce 24 Août à la Place des Cheminots de 10h00 à 14h00 \nAu programme du CMA Mobile : \n\nInformations\, conseils\,\nCréation et développement d’entreprises\,\nPorteurs de projets\,\nFormation continue et d’apprentissage.\n\nPlus d’informations sur www.artisanat974.re ou par mail en contactant jimmy.leong-chong@cma-reunion.fr \nUn événement organisé par la Ville du Port\, la Chambre des Métiers et la Région Réunion \n 
URL:https://www.ville-port.re/event/cma-a-votre-rencontre/
LOCATION:Place des Cheminots\, Place Des Cheminots\, Le Port\, 9\, Réunion
CATEGORIES:Économie
ATTACH;FMTTYPE=image/jpeg:https://www.ville-port.re/wp-content/uploads/2023/08/miniature-cma-a-votre-rencontre.jpg
END:VEVENT
BEGIN:VEVENT
DTSTART;TZID=Indian/Reunion:20230828T090000
DTEND;TZID=Indian/Reunion:20230828T140000
DTSTAMP:20260422T160718
CREATED:20230825T052648Z
LAST-MODIFIED:20230825T052711Z
UID:367019-1693213200-1693231200@www.ville-port.re
SUMMARY:La Caravane d’Accès aux Droits et à l’Information
DESCRIPTION:Vous avez des questions sur les aides sociales\, besoin d’une écoute ou d’un conseil ? Venez vous informer au plus près de chez vous dans votre quartier ! Des professionnels du département sont à votre écoute. \nRetrouvez la Caravane d’Accès aux Droits et à l’Information le Lundi 28 Août 2023 de 9h à 14h à l’adresse suivante :\nAngle de la rue Auguste Rodin et Ruelle Armand Gensonne – Parking du marché au Port \nRetrouvez le planning des tournées sur les réseaux sociaux du Département et sur l’application mobile \n  \n  \n 
URL:https://www.ville-port.re/event/la-caravane-dacces-aux-droits-et-a-linformation/
CATEGORIES:Économie
ATTACH;FMTTYPE=image/jpeg:https://www.ville-port.re/wp-content/uploads/2023/08/miniature-affiche-caravane-droits-information-aout.jpg
END:VEVENT
BEGIN:VEVENT
DTSTART;TZID=Indian/Reunion:20230830T090000
DTEND;TZID=Indian/Reunion:20230830T120000
DTSTAMP:20260422T160718
CREATED:20230829T042013Z
LAST-MODIFIED:20230829T042037Z
UID:367065-1693386000-1693396800@www.ville-port.re
SUMMARY:Rejoignez la Karavan SAK I AID ce mercredi au Port
DESCRIPTION:Après le Café des Aidants\, la ville du Port propose aux aidants familiaux de bénéficier des services de la Karavan SAK I AID. \nLe dispositif itinérant de proximité du GIP SAP sera présent ce mercredi 30 août\, de 9h à 12h\, sur la place des Cheminots. Espace d’écoute et de conseils\, les aidants pourront avoir accès à des informations sur les aides\, services et structures adaptés à leurs besoins et à ceux de leurs proches.
URL:https://www.ville-port.re/event/karavan-sak-i-aid-mercredi-30-aout-2023-port/
LOCATION:Place des Cheminots\, Place Des Cheminots\, Le Port\, 9\, Réunion
CATEGORIES:Culture,Économie
ATTACH;FMTTYPE=image/jpeg:https://www.ville-port.re/wp-content/uploads/2023/08/miniature-karavan-sak-i-aid-mercredi-30-aout-2023-port.jpg
END:VEVENT
END:VCALENDAR