BEGIN:VCALENDAR
VERSION:2.0
PRODID:-//Ville Port - ECPv6.15.18//NONSGML v1.0//EN
CALSCALE:GREGORIAN
METHOD:PUBLISH
X-ORIGINAL-URL:https://www.ville-port.re
X-WR-CALDESC:Évènements pour Ville Port
REFRESH-INTERVAL;VALUE=DURATION:PT1H
X-Robots-Tag:noindex
X-PUBLISHED-TTL:PT1H
BEGIN:VTIMEZONE
TZID:Indian/Reunion
BEGIN:STANDARD
TZOFFSETFROM:+0400
TZOFFSETTO:+0400
TZNAME:+04
DTSTART:20210101T000000
END:STANDARD
END:VTIMEZONE
BEGIN:VEVENT
DTSTART;TZID=Indian/Reunion:20220707T083000
DTEND;TZID=Indian/Reunion:20220707T140000
DTSTAMP:20260423T143212
CREATED:20220628T104924Z
LAST-MODIFIED:20220628T104933Z
UID:360896-1657182600-1657202400@www.ville-port.re
SUMMARY:Village de l'Emploi
DESCRIPTION:Rendez-vous jeudi 7 juillet pour le Village de l’Emploi au complexe sportif Edmond Albius (Boulevard de Tamatave) à côté de la piscine municipale de Le Port de 8h30 à 14h. Vous y découvrirez:\n-Village de la Création d’Entreprise\n– Village Formations\n– Village Métiers\n– Village de l’Accompagnement\n– Village Job Dating avec la présence de 40 entreprises du territoire qui recrutent.\nDe nombreux métiers seront représentés\, notamment les secteurs porteurs d’emplois sur Le Port tels que : hôtellerie\, restauration\, tourisme\, BTP\, Grande distribution…
URL:https://www.ville-port.re/event/village-de-lemploi/
LOCATION:Complexe Sportif Edmond Albius\, Le Port
CATEGORIES:Économie
ATTACH;FMTTYPE=image/jpeg:https://www.ville-port.re/wp-content/uploads/2022/06/291090332_10161797337299097_3197498125463713075_n.jpg
END:VEVENT
END:VCALENDAR